BEGIN:VCALENDAR
VERSION:2.0
PRODID:-//Colegio de Abogados de Lomas de Zamora - ECPv6.15.20//NONSGML v1.0//EN
CALSCALE:GREGORIAN
METHOD:PUBLISH
X-WR-CALNAME:Colegio de Abogados de Lomas de Zamora
X-ORIGINAL-URL:https://calz.org.ar
X-WR-CALDESC:Eventos para Colegio de Abogados de Lomas de Zamora
REFRESH-INTERVAL;VALUE=DURATION:PT1H
X-Robots-Tag:noindex
X-PUBLISHED-TTL:PT1H
BEGIN:VTIMEZONE
TZID:America/Argentina/Buenos_Aires
BEGIN:STANDARD
TZOFFSETFROM:-0300
TZOFFSETTO:-0300
TZNAME:-03
DTSTART:20250101T000000
END:STANDARD
END:VTIMEZONE
BEGIN:VEVENT
DTSTART;TZID=America/Argentina/Buenos_Aires:20260420T180000
DTEND;TZID=America/Argentina/Buenos_Aires:20260420T200000
DTSTAMP:20260420T053330
CREATED:20260417T190119Z
LAST-MODIFIED:20260417T190119Z
UID:5167-1776708000-1776715200@calz.org.ar
SUMMARY:Inteligencia artificial y Third-party funding 'actores invisibles' en el arbitraje
DESCRIPTION:Fecha: miércoles 20 de mayo a las 18hs\nInscripción: https://tinyurl.com/ycbxw225\nExpone: Dra. Macarena Traversaro\nOrganiza: Comisión de Arbitraje del CALZ\nAdhiere: Instituto de Inteligencia Artificial – Instituto de Medios Alternativos de Resolución de Conflictos – Facultad de Derecho UNLZ\nModalidad: virtual vía ZOOM
URL:https://calz.org.ar/evento/inteligencia-artificial-y-third-party-funding-actores-invisibles-en-el-arbitraje/
CATEGORIES:Conferencia
END:VEVENT
BEGIN:VEVENT
DTSTART;TZID=America/Argentina/Buenos_Aires:20260428T150000
DTEND;TZID=America/Argentina/Buenos_Aires:20260428T170000
DTSTAMP:20260420T053330
CREATED:20260417T181355Z
LAST-MODIFIED:20260417T181355Z
UID:5146-1777388400-1777395600@calz.org.ar
SUMMARY:Abordaje jurídico de la salud mental. Análisis del procedimiento en materia de salud mental
DESCRIPTION:Día y hora: Martes 28 de Abril a las 15hs\nOrganiza: CALZ – Facultad de Derecho UNLZ\nExpone: Dr. Guillermo Di Leo\nAdhiere: Instituto de Derecho a la Salud CALZ – ANNyA CALZ\nInscripción: https://tinyurl.com/ycbxw225\nModalidad: presencial\nSede: Instituto Municipal de la Cultura – Esteban Adrogué 1224\, Adrogué\nActividad no arancelada. Con inscripción previa\nCertificados: 1/4 JUS (CALZ). 1/2 JUS (Otros).\nInfo y consultas: areaacademica@calz.org
URL:https://calz.org.ar/evento/abordaje-juridico-de-la-salud-mental-analisis-del-procedimiento-en-materia-de-salud-mental/
CATEGORIES:Conferencia
END:VEVENT
END:VCALENDAR